BEGIN:VCALENDAR
VERSION:2.0
PRODID:-//Tukios.com/
BEGIN:VEVENT
UID:4938b424-fbb5-47be-9bda-cce6eaa1eaa4@www.aaronsmortuary.com
DTSTAMP:20260421T181940Z
DTSTART:20260424T190000Z
DTEND:20260424T200000Z
SUMMARY:Memorial Service
DESCRIPTION:
URL:https://www.aaronsmortuary.com/obituaries/christopher-gilgert
LOCATION:LDS Chapel 770 15th Street  Ogden UT 84404
GEO:41.2401499;-111.9594705
END:VEVENT
END:VCALENDAR