BEGIN:VCALENDAR
VERSION:2.0
PRODID:-//Tukios.com/
BEGIN:VEVENT
UID:28333c75-89c9-4665-8fab-9c278c8c6894@www.aaronsmortuary.com
DTSTAMP:20260425T195318Z
DTSTART:20260502T190000Z
DTEND:20260502T200000Z
SUMMARY:Visiting with Family
DESCRIPTION:
URL:https://www.aaronsmortuary.com/obituaries/kevin-richan
LOCATION:Aaron’s Mortuary 888 South Main Street  Brigham City UT 84302
GEO:41.4928858;-112.0166017
END:VEVENT
END:VCALENDAR