BEGIN:VCALENDAR
VERSION:2.0
PRODID:-//Tukios.com/
BEGIN:VEVENT
UID:9d9a9a7f-08ec-471a-9a23-2ccfe4faf55d@www.aaronsmortuary.com
DTSTAMP:20260425T195426Z
DTSTART:20260502T200000Z
DTEND:20260502T210000Z
SUMMARY:Sharing of Memories
DESCRIPTION:
URL:https://www.aaronsmortuary.com/obituaries/kevin-richan
LOCATION:Aaron’s Mortuary 888 South Main Street  Brigham City UT 84302
GEO:41.4928858;-112.0166017
END:VEVENT
END:VCALENDAR