BEGIN:VCALENDAR
VERSION:2.0
PRODID:-//Tukios.com/
BEGIN:VEVENT
UID:c917a63f-7354-485b-89b8-851f39d0a876@www.aaronsmortuary.com
DTSTAMP:20260423T015115Z
DTSTART:20260427T183000Z
DTEND:20260427T193000Z
SUMMARY:Viewing
DESCRIPTION:
URL:https://www.aaronsmortuary.com/obituaries/shahin-paris
LOCATION:Lindquist's North Ogden Mortuary 2140 N Washington Blvd  North 
	Ogden UT 84414
GEO:41.2972893;-111.9682574
END:VEVENT
END:VCALENDAR