BEGIN:VCALENDAR
VERSION:2.0
PRODID:-//Tukios.com/
BEGIN:VEVENT
UID:83a886fa-6f39-4fee-85e9-39e5f37c428f@www.aaronsmortuary.com
DTSTAMP:20260423T015003Z
DTSTART:20260427T200000Z
DTEND:20260427T210000Z
SUMMARY:Graveside Service
DESCRIPTION:
URL:https://www.aaronsmortuary.com/obituaries/shahin-paris
LOCATION: 1875 Monroe Blvd  Ogden UT 84401
GEO:41.2339438;-111.9598411
END:VEVENT
END:VCALENDAR