BEGIN:VCALENDAR
VERSION:2.0
PRODID:-//Tukios.com/
BEGIN:VEVENT
UID:1cca9aaa-7fd1-43d8-94db-cacdc79b0ffb@www.aaronsmortuary.com
DTSTAMP:20260424T225402Z
DTSTART:20260501T180000Z
DTEND:20260501T190000Z
SUMMARY:Viewing
DESCRIPTION:
URL:https://www.aaronsmortuary.com/obituaries/shawn-tingey
LOCATION:Layton Hills Stake Center 2300 University Park Boulevard  Layton 
	UT 84041
GEO:41.0951338;-111.9871862
END:VEVENT
END:VCALENDAR