BEGIN:VCALENDAR
VERSION:2.0
PRODID:-//Tukios.com/
BEGIN:VEVENT
UID:b6e881a1-7369-4817-a105-8947c72223a5@www.aaronsmortuary.com
DTSTAMP:20260424T225503Z
DTSTART:20260501T190000Z
DTEND:20260501T200000Z
SUMMARY:Funeral Service
DESCRIPTION:
URL:https://www.aaronsmortuary.com/obituaries/shawn-tingey
LOCATION:Layton Hills Stake Center 2300 University Park Boulevard  Layton 
	UT 84041
GEO:41.0951338;-111.9871862
END:VEVENT
END:VCALENDAR